BEGIN:VCALENDAR
PRODID:-//kirchenweb.ch gmbh//veranstaltungsausgabe v2.0//DE
VERSION:2.0
METHOD:PUBLISH
BEGIN:VEVENT
DTSTART:20250522T080000Z
DTEND:20250522T090000Z
LOCATION:Alterszentrum Gibeleich\, Talackerstrasse 70\, 8152 Glattbrugg
TRANSP:OPAQUE
SEQUENCE:0
UID:11841-veranstaltung@kirchenregion-hardwald.ch
DTSTAMP:20250110T103730Z
DESCRIPTION:Ökumenischer Gottesdienst für Bewohnerinnen und Bewohner des
  «Gibeleich»\n\n\nKontakt: Thomas Lichtleitner\, Diakon und
  Co-Gemeindeleiter\n\nWeitere Infos:
  https://www.kirchenregion-hardwald.ch/veranstaltung/11841
SUMMARY:Ökumenischer Gottesdienst im Alterszentrum Gibeleich
PRIORITY:5
X-MICROSOFT-CDO-IMPORTANCE:1
CLASS:PUBLIC
END:VEVENT
END:VCALENDAR
