BEGIN:VCALENDAR
PRODID:-//kirchenweb.ch gmbh//veranstaltungsausgabe v2.0//DE
VERSION:2.0
METHOD:PUBLISH
BEGIN:VEVENT
DTSTART:20251002T100000Z
DTEND:20251002T120000Z
LOCATION:Kirchgemeindehaus Opfikon\, Oberhauserstrasse 71\, 8152
  Glattbrugg
TRANSP:OPAQUE
SEQUENCE:0
UID:11940-veranstaltung@kirchenregion-hardwald.ch
DTSTAMP:20250903T072054Z
DESCRIPTION:Zäme z'Mittag ässe\nImmer am ersten Donnerstag jeden Monats
  (ausser Feiertage) bieten wir ein Mittagessen an\, welches von einem Team
  freiwilliger Helfer/-innen zubereitet wird. \n
 \nhttps://www.ref-opfikon.ch/bericht/568\n\nKontakt: Beatrice Schoder\,
  Administration\nKathleen Brugger\, Administration\n\nWeitere Infos:
  https://www.kirchenregion-hardwald.ch/veranstaltung/11940
SUMMARY:Zäme z'Mittag ässe
PRIORITY:5
X-MICROSOFT-CDO-IMPORTANCE:1
CLASS:PUBLIC
END:VEVENT
END:VCALENDAR
