BEGIN:VCALENDAR
PRODID:-//kirchenweb.ch gmbh//veranstaltungsausgabe v2.0//DE
VERSION:2.0
METHOD:PUBLISH
BEGIN:VEVENT
DTSTART:20260211T160000Z
DTEND:20260211T180000Z
LOCATION:Kirchgemeindehaus Opfikon\, Oberhauserstrasse 71\, 8152
  Glattbrugg
TRANSP:OPAQUE
SEQUENCE:0
UID:12704-veranstaltung@kirchenregion-hardwald.ch
DTSTAMP:20260212T150026Z
DESCRIPTION:Der Film wird spätestens eine Woche vor dem Termin bekannt
  gegeben. \n\nKontakt: Katharina Peter\, Familien & Jugendbeauftragte\n
 \nWeitere Infos: https://www.kirchenregion-hardwald.ch/veranstaltung/12704
SUMMARY:Kino & Hot Dog für Kinder zwischen 6 - 12 Jahre
PRIORITY:5
X-MICROSOFT-CDO-IMPORTANCE:1
CLASS:PUBLIC
END:VEVENT
END:VCALENDAR
