BEGIN:VCALENDAR
PRODID:-//kirchenweb.ch gmbh//veranstaltungsausgabe v2.0//DE
VERSION:2.0
METHOD:PUBLISH
BEGIN:VEVENT
DTSTART:20260617T150000Z
DTEND:20260617T170000Z
LOCATION:Kirchgemeindehaus Opfikon\, Oberhauserstrasse 71\, 8152
  Glattbrugg
TRANSP:OPAQUE
SEQUENCE:0
UID:12708-veranstaltung@kirchenregion-hardwald.ch
DTSTAMP:20251216T125046Z
DESCRIPTION:Der Film wird spätestens eine Woche vor dem Termin bekannt
  gegeben. \n\nKontakt: Katharina Peter\, Katechetik\, Mitarbeit Diakonie\n
 \nWeitere Infos: https://www.kirchenregion-hardwald.ch/veranstaltung/12708
SUMMARY:Kino & Hot Dog für Kinder zwischen 6-12 Jahre
PRIORITY:5
X-MICROSOFT-CDO-IMPORTANCE:1
CLASS:PUBLIC
END:VEVENT
END:VCALENDAR
