BEGIN:VCALENDAR
PRODID:-//kirchenweb.ch gmbh//veranstaltungsausgabe v2.0//DE
VERSION:2.0
METHOD:PUBLISH
BEGIN:VEVENT
DTSTART:20260512T123000Z
DTEND:20260512T150000Z
LOCATION:Kirchgemeindehaus Opfikon\, Oberhauserstrasse 71\, 8152
  Glattbrugg
TRANSP:OPAQUE
SEQUENCE:0
UID:13671-veranstaltung@kirchenregion-hardwald.ch
DTSTAMP:20250909T102354Z
DESCRIPTION:Der Kafiplausch 60+ findet durchschnittlich einmal im Monat
  statt. \nGemütlich zusammensitzen und den Nachmittag bei Tee oder Kaffee
  mit etwas süssem verbringen dabei Freundschaften pflegen oder entstehen
  lassen. \nDer Anlass ist kostenfrei und für alle offen. \n\nKontakt:
  Katharina Peter\, Katechetik\, Familien + Mitarbeit Diakonie\n\nWeitere
  Infos: https://www.kirchenregion-hardwald.ch/veranstaltung/13671
SUMMARY:Kafiplausch 60+
PRIORITY:5
X-MICROSOFT-CDO-IMPORTANCE:1
CLASS:PUBLIC
END:VEVENT
END:VCALENDAR
