BEGIN:VCALENDAR
PRODID:-//kirchenweb.ch gmbh//veranstaltungsausgabe v2.0//DE
VERSION:2.0
METHOD:PUBLISH
BEGIN:VEVENT
DTSTART:20260602T123000Z
DTEND:20260602T150000Z
LOCATION:Kirchgemeindehaus Opfikon\, Oberhauserstrasse 71\, 8152
  Glattbrugg
TRANSP:OPAQUE
SEQUENCE:0
UID:13672-veranstaltung@kirchenregion-hardwald.ch
DTSTAMP:20250813T162741Z
DESCRIPTION:Einen geselligen Nachmittag mit Spielen verbringen\, dazu
  einen Kaffee oder Tee und etwas kleines süsses geniessen\, so lässt es
  sich gut leben. \nEr-Leben sie gemütliche Nachmittage mit uns. \nWir
  freuen uns auf vielseitige Interessenten. \n\nKontakt: Katharina Peter\,
  Katechetik\, Mitarbeit Diakonie\n\nWeitere Infos:
  https://www.kirchenregion-hardwald.ch/veranstaltung/13672
SUMMARY:Spielnachmittag für Senioren und Seniorinnen
PRIORITY:5
X-MICROSOFT-CDO-IMPORTANCE:1
CLASS:PUBLIC
END:VEVENT
END:VCALENDAR
