BEGIN:VCALENDAR
PRODID:-//kirchenweb.ch gmbh//veranstaltungsausgabe v2.0//DE
VERSION:2.0
METHOD:PUBLISH
BEGIN:VEVENT
DTSTART:20260409T123000Z
DTEND:20260409T150000Z
LOCATION:Kirchgemeindehaus Opfikon\, Oberhauserstrasse 71\, 8152
  Glattbrugg
TRANSP:OPAQUE
SEQUENCE:0
UID:13715-veranstaltung@kirchenregion-hardwald.ch
DTSTAMP:20260409T120048Z
DESCRIPTION:Da Capo war in den frühen Jahren im Schweizer Fernsehen ein
  Begriff für Erwachsenensendungen. \nIm Winterhalbjahr wird jeweils
  durchschnittlich 1x im Monat ein Filmnachmittag für Erwachsene mit
  anschliessender Gesprächsrunde und einem Glas Wein oder Saft angeboten. 
 \n\nKontakt: Katharina Peter\, Katechetik\, Familien + Mitarbeit Diakonie
 \n\nWeitere Infos:
  https://www.kirchenregion-hardwald.ch/veranstaltung/13715
SUMMARY:Da Capo Filmnachmittag für Erwachsene
PRIORITY:5
X-MICROSOFT-CDO-IMPORTANCE:1
CLASS:PUBLIC
END:VEVENT
END:VCALENDAR
