BEGIN:VCALENDAR
PRODID:-//kirchenweb.ch gmbh//veranstaltungsausgabe v2.0//DE
VERSION:2.0
METHOD:PUBLISH
BEGIN:VEVENT
DTSTART:20260507T070000Z
DTEND:20260507T153000Z
LOCATION:Auswärts\, \,
TRANSP:OPAQUE
SEQUENCE:0
UID:13716-veranstaltung@kirchenregion-hardwald.ch
DTSTAMP:20260421T065651Z
DESCRIPTION:Maiausflug 2026 in die Schaffhauser Weinbaugegend. \n
 \nEinstieg Alterszentrum Gibeleich: 09.20 Uhr\nEinstieg Tertianum
  Bubenholz: 09.30 Uhr\nVoraussichtliche Rückkehr: 17.30 Uhr\n
 \nhttps://www.ref-opfikon.ch/bericht/643\n\n\nKontakt: Brigitta
  Steinemann\, Präsidentin\nKatharina Peter\, Katechetik\, Familien +
  Mitarbeit Diakonie\nPfrn. Corina Neher\n\nWeitere Infos:
  https://www.kirchenregion-hardwald.ch/veranstaltung/13716
SUMMARY:Maiausflug für Seniorinnen und Senioren
PRIORITY:5
X-MICROSOFT-CDO-IMPORTANCE:1
CLASS:PUBLIC
END:VEVENT
END:VCALENDAR
