BEGIN:VCALENDAR
PRODID:-//kirchenweb.ch gmbh//veranstaltungsausgabe v2.0//DE
VERSION:2.0
METHOD:PUBLISH
BEGIN:VEVENT
DTSTART:20260415T113000Z
DTEND:20260415T160000Z
LOCATION:Kirchgemeindehaus Opfikon\, Oberhauserstrasse 71\, 8152
  Glattbrugg
TRANSP:OPAQUE
SEQUENCE:0
UID:13721-veranstaltung@kirchenregion-hardwald.ch
DTSTAMP:20251109T124258Z
DESCRIPTION:Der 3./4. Klass - Unti ist ein Angebot für reformierte Kinder
  im Alter zwischen 8 - 10 Jahren. \nWir erforschen und erleben in diesen 2
  Jahren die Elemente: \nWasser - Thema Taufe\, Feuer\, Thema Pfingsten\,
  Luft\, Thema Gebet\, *Unser Vater im Himmel* Erde\, Thema Abendmahl und
  Passionszeit. \n\nKontakt: Katharina Peter\, Katechetik\, Mitarbeit
  Diakonie\n\nWeitere Infos:
  https://www.kirchenregion-hardwald.ch/veranstaltung/13721
SUMMARY:3./4. Klass - Unti Ausflug
PRIORITY:5
X-MICROSOFT-CDO-IMPORTANCE:1
CLASS:PUBLIC
END:VEVENT
END:VCALENDAR
