BEGIN:VCALENDAR
PRODID:-//kirchenweb.ch gmbh//veranstaltungsausgabe v2.0//DE
VERSION:2.0
METHOD:PUBLISH
BEGIN:VEVENT
DTSTART:20260624T170000Z
DTEND:20260624T180000Z
LOCATION:Kirchgemeindehaus Opfikon\, Oberhauserstrasse 71\, 8152
  Glattbrugg
TRANSP:OPAQUE
SEQUENCE:0
UID:14119-veranstaltung@kirchenregion-hardwald.ch
DTSTAMP:20260308T182456Z
DESCRIPTION:Einladung mit Unterlagen folgt\n\nKontakt: Brigitta
  Steinemann\, Präsidentin\n\nWeitere Infos:
  https://www.kirchenregion-hardwald.ch/veranstaltung/14119
SUMMARY:Kirchgemeindeversammlung
PRIORITY:5
X-MICROSOFT-CDO-IMPORTANCE:1
CLASS:PUBLIC
END:VEVENT
END:VCALENDAR
