BEGIN:VCALENDAR
PRODID:-//kirchenweb.ch gmbh//veranstaltungsausgabe v2.0//DE
VERSION:2.0
METHOD:PUBLISH
BEGIN:VEVENT
DTSTART:20260701T153000Z
DTEND:20260701T203000Z
LOCATION:Kirchgemeindehaus Opfikon\, Oberhauserstrasse 71\, 8152
  Glattbrugg
TRANSP:OPAQUE
SEQUENCE:0
UID:14272-veranstaltung@kirchenregion-hardwald.ch
DTSTAMP:20251008T082010Z
DESCRIPTION:Kochen mit der Bibel\nMit diesem Angebot laden wir alle
  Interessierten herzlich zu einer kulinarischen Reise durch die Bibel ein.
  Zahlreiche Hinweise auf Gaumenfreuden der damaligen Zeit wurden später
  zu Rezepten zusammengestellt\, die wir gemeinsam ausprobieren.\n
 \nAuskunft und Anmeldung\nLouise Plüss 044 810 71 00 oder \nAnnemarie
  Grunholzer 044 810 07 58 \n\nKontakt: kathleen.brugger@ref-wallisellen.ch
 \n\nWeitere Infos:
  https://www.kirchenregion-hardwald.ch/veranstaltung/14272
SUMMARY:Kochen mit der Bibel
PRIORITY:5
X-MICROSOFT-CDO-IMPORTANCE:1
CLASS:PUBLIC
END:VEVENT
END:VCALENDAR
