BEGIN:VCALENDAR
PRODID:-//kirchenweb.ch gmbh//veranstaltungsausgabe v2.0//DE
VERSION:2.0
METHOD:PUBLISH
BEGIN:VEVENT
DTSTART:20260615T100000Z
DTEND:20260615T113000Z
LOCATION:Kirchgemeindehaus Opfikon\, Oberhauserstrasse 71\, 8152
  Glattbrugg
TRANSP:OPAQUE
SEQUENCE:0
UID:14391-veranstaltung@kirchenregion-hardwald.ch
DTSTAMP:20251021T125840Z
DESCRIPTION:Gemeinsames Mittagessen für Alle\n\nDorfverein Opfikon
 \nAnmeldung\nJörg Jenny\, jm.jenny@bluewin.ch oder telefonisch 044 810 42
  51 (Anrufbeantworter)\nPreis CHF 13.00\n\nKontakt:
  beatrice.schoder@ref-opfikon.ch\n\nWeitere Infos:
  https://www.kirchenregion-hardwald.ch/veranstaltung/14391
SUMMARY:Tavolata
PRIORITY:5
X-MICROSOFT-CDO-IMPORTANCE:1
CLASS:PUBLIC
END:VEVENT
END:VCALENDAR
