BEGIN:VCALENDAR
PRODID:-//kirchenweb.ch gmbh//veranstaltungsausgabe v2.0//DE
VERSION:2.0
METHOD:PUBLISH
BEGIN:VEVENT
DTSTART:20260427T163000Z
DTEND:20260427T173000Z
LOCATION:Reformierte Kirche Opfikon\, Oberhauserstrasse 71\, 8152
  Glattbrugg
TRANSP:OPAQUE
SEQUENCE:0
UID:14911-veranstaltung@kirchenregion-hardwald.ch
DTSTAMP:20251203T130345Z
DESCRIPTION:Ökumenisches Gebet für den Frieden\nJeden letzten Montag im
  Monat versammeln sich Christinnen und Christen aus verschiedenen
  Denominationen zum gemeinsamen Gebet für den Frieden.\n\nKontakt:
  kathleen.brugger@ref-wallisellen.ch\n\nWeitere Infos:
  https://www.kirchenregion-hardwald.ch/veranstaltung/14911
SUMMARY:Friedensgebet
PRIORITY:5
X-MICROSOFT-CDO-IMPORTANCE:1
CLASS:PUBLIC
END:VEVENT
END:VCALENDAR
