BEGIN:VCALENDAR
PRODID:-//kirchenweb.ch gmbh//veranstaltungsausgabe v2.0//DE
VERSION:2.0
METHOD:PUBLISH
BEGIN:VEVENT
DTSTART:20260616T120000Z
DTEND:20260616T140000Z
LOCATION:Kirchgemeindehaus Opfikon\, Oberhauserstrasse 71\, 8152
  Glattbrugg
TRANSP:OPAQUE
SEQUENCE:0
UID:14924-veranstaltung@kirchenregion-hardwald.ch
DTSTAMP:20251204T170837Z
DESCRIPTION:Ein Treffpunkt für alle Interessierten\, um sich
 \nauszutauschen\, Deutsch zu sprechen und Leute\nkennen zu lernen.\nFür
  Kinder gibt es eine Spielecke.\nDas Angebot ist gratis.\nEine Anmeldung
  ist nicht nötig.\n\nKommen Sie vorbei. Wir freuen uns auf Sie!\n
 \nKontakt: sarah.bregy@opfikon.ch 044 829 82 02\n\nWeitere Infos:
  https://www.kirchenregion-hardwald.ch/veranstaltung/14924
SUMMARY:Café international
PRIORITY:5
X-MICROSOFT-CDO-IMPORTANCE:1
CLASS:PUBLIC
END:VEVENT
END:VCALENDAR
