BEGIN:VCALENDAR
PRODID:-//kirchenweb.ch gmbh//veranstaltungsausgabe v2.0//DE
VERSION:2.0
METHOD:PUBLISH
BEGIN:VEVENT
DTSTART:20260528T080000Z
DTEND:20260528T090000Z
LOCATION:Alterszentrum Tertianum\, Müllackerstrasse 2\, 8152 Glattbrugg
TRANSP:OPAQUE
SEQUENCE:0
UID:15075-veranstaltung@kirchenregion-hardwald.ch
DTSTAMP:20251210T111350Z
DESCRIPTION:Ökumenischer Gottesdienst für Bewohnerinnen und Bewohner des
  Tertianum Bubenholz\n\nKontakt: Stefan Isenecker\, Priester und
  Pfarradministrator\n\nWeitere Infos:
  https://www.kirchenregion-hardwald.ch/veranstaltung/15075
SUMMARY:Ökumenischer Gottesdienst im Alterszentrum Tertianum
PRIORITY:5
X-MICROSOFT-CDO-IMPORTANCE:1
CLASS:PUBLIC
END:VEVENT
END:VCALENDAR
