BEGIN:VCALENDAR
PRODID:-//kirchenweb.ch gmbh//veranstaltungsausgabe v2.0//DE
VERSION:2.0
METHOD:PUBLISH
BEGIN:VEVENT
DTSTART:20260521T080000Z
DTEND:20260521T090000Z
LOCATION:Alterszentrum Gibeleich\, Talackerstrasse 70\, 8152 Glattbrugg
TRANSP:OPAQUE
SEQUENCE:0
UID:15089-veranstaltung@kirchenregion-hardwald.ch
DTSTAMP:20251210T134701Z
DESCRIPTION:Ökumenischer Gottesdienst für Bewohnerinnen und Bewohner des
  «Gibeleich»\n\nMusik: \n\nKontakt: Pfrn. Christina Reuter\n\nWeitere
  Infos: https://www.kirchenregion-hardwald.ch/veranstaltung/15089
SUMMARY:Ökumenischer Gottesdienst Alterszentrum Gibeleich
PRIORITY:5
X-MICROSOFT-CDO-IMPORTANCE:1
CLASS:PUBLIC
END:VEVENT
END:VCALENDAR
