BEGIN:VCALENDAR
PRODID:-//kirchenweb.ch gmbh//veranstaltungsausgabe v2.0//DE
VERSION:2.0
METHOD:PUBLISH
BEGIN:VEVENT
DTSTART:20260219T090000Z
DTEND:20260219T100000Z
LOCATION:Alterszentrum Gibeleich\, Talackerstrasse 70\, 8152 Glattbrugg
TRANSP:OPAQUE
SEQUENCE:0
UID:15092-veranstaltung@kirchenregion-hardwald.ch
DTSTAMP:20251210T134953Z
DESCRIPTION:Ökumenischer Gottesdienst für Bewohnerinnen und Bewohner des
  «Gibeleich»\n\nMusik: \n\n\nKontakt: Pfrn. Corina Neher\n\nWeitere
  Infos: https://www.kirchenregion-hardwald.ch/veranstaltung/15092
SUMMARY:Ökumenischer Gottesdienst Alterszentrum Gibeleich
PRIORITY:5
X-MICROSOFT-CDO-IMPORTANCE:1
CLASS:PUBLIC
END:VEVENT
END:VCALENDAR
