BEGIN:VCALENDAR
PRODID:-//kirchenweb.ch gmbh//veranstaltungsausgabe v2.0//DE
VERSION:2.0
METHOD:PUBLISH
BEGIN:VEVENT
DTSTART:20260510T080000Z
DTEND:20260510T090000Z
LOCATION:Reformierte Kirche Opfikon\, Oberhauserstrasse 71\, 8152
  Glattbrugg
TRANSP:OPAQUE
SEQUENCE:0
UID:15360-veranstaltung@kirchenregion-hardwald.ch
DTSTAMP:20260331T130200Z
DESCRIPTION:Pfarrerin Corina Neher\nMusik: Masako Ohashi\, Flügel\,
  Atsuko Murata\, Gesang\nAnschliessend Apéro\n\nKollekte:
  https://www.frauenbund.ch/unsere-werke/solidaritaetsfonds/der-solidaritae
 tsfonds\n\nLive-Übertragung der Gottesdienste zu jeder Tages- oder
  Nachtzeit.\nLive-Streaming\n\nKontakt: Pfrn. Corina Neher\n\nWeitere
  Infos: https://www.kirchenregion-hardwald.ch/veranstaltung/15360
SUMMARY:Gottesdienst zum Muttertag
PRIORITY:5
X-MICROSOFT-CDO-IMPORTANCE:1
CLASS:PUBLIC
END:VEVENT
END:VCALENDAR
