BEGIN:VCALENDAR
PRODID:-//kirchenweb.ch gmbh//veranstaltungsausgabe v2.0//DE
VERSION:2.0
METHOD:PUBLISH
BEGIN:VEVENT
DTSTART:20260514T080000Z
DTEND:20260514T090000Z
LOCATION:Reformierte Kirche Opfikon\, Oberhauserstrasse 71\, 8152
  Glattbrugg
TRANSP:OPAQUE
SEQUENCE:0
UID:15361-veranstaltung@kirchenregion-hardwald.ch
DTSTAMP:20260313T143108Z
DESCRIPTION:Pfarrerin Corina Neher\nMusik: Shoko Schwager\n\nAbendmahl\n
 \nKollekte: Bibelkollekte\, LK\n\nLive-Übertragung der Gottesdienste zu
  jeder Tages- oder Nachtzeit.\nLive-Streaming\n\nKontakt: Pfrn. Corina
  Neher\n\nWeitere Infos:
  https://www.kirchenregion-hardwald.ch/veranstaltung/15361
SUMMARY:Gottesdienst an Auffahrt
PRIORITY:5
X-MICROSOFT-CDO-IMPORTANCE:1
CLASS:PUBLIC
END:VEVENT
END:VCALENDAR
