BEGIN:VCALENDAR
PRODID:-//kirchenweb.ch gmbh//veranstaltungsausgabe v2.0//DE
VERSION:2.0
METHOD:PUBLISH
BEGIN:VEVENT
DTSTART:20260426T080000Z
DTEND:20260426T090000Z
LOCATION:Reformierte Kirche Opfikon\, Oberhauserstrasse 71\, 8152
  Glattbrugg
TRANSP:OPAQUE
SEQUENCE:0
UID:15373-veranstaltung@kirchenregion-hardwald.ch
DTSTAMP:20260417T132126Z
DESCRIPTION:Pfarrer Tak Kappes\nMusik: Georges Pulfer und Tarek Schütz\n
 \n\nKollekte: https://www.berghilfe.ch/\n\nLive-Übertragung der
  Gottesdienste zu jeder Tages- oder Nachtzeit.\nLive-Streaming\n\nKontakt:
  Pfarrer Tak Kappes \n\nWeitere Infos:
  https://www.kirchenregion-hardwald.ch/veranstaltung/15373
SUMMARY:Gottesdienst
PRIORITY:5
X-MICROSOFT-CDO-IMPORTANCE:1
CLASS:PUBLIC
END:VEVENT
END:VCALENDAR
