BEGIN:VCALENDAR
PRODID:-//kirchenweb.ch gmbh//veranstaltungsausgabe v2.0//DE
VERSION:2.0
METHOD:PUBLISH
BEGIN:VEVENT
DTSTART:20260517T080000Z
DTEND:20260517T090000Z
LOCATION:Reformierte Kirche Opfikon\, Oberhauserstrasse 71\, 8152
  Glattbrugg
TRANSP:OPAQUE
SEQUENCE:0
UID:15375-veranstaltung@kirchenregion-hardwald.ch
DTSTAMP:20260313T143147Z
DESCRIPTION:Pfarrerin Christina Reuter\nMusik: Shoko Schwager
 \nAnschliessend Chilekafi\n\nKollekte: gemäss Ansage\n\nLive-Übertragung
  der Gottesdienste zu jeder Tages- oder Nachtzeit.\nLive-Streaming\n
 \nKontakt: Pfrn. Christina Reuter\n\nWeitere Infos:
  https://www.kirchenregion-hardwald.ch/veranstaltung/15375
SUMMARY:Gottesdienst
PRIORITY:5
X-MICROSOFT-CDO-IMPORTANCE:1
CLASS:PUBLIC
END:VEVENT
END:VCALENDAR
