BEGIN:VCALENDAR
PRODID:-//kirchenweb.ch gmbh//veranstaltungsausgabe v2.0//DE
VERSION:2.0
METHOD:PUBLISH
BEGIN:VEVENT
DTSTART:20260524T080000Z
DTEND:20260524T090000Z
LOCATION:Reformierte Kirche Opfikon\, Oberhauserstrasse 71\, 8152
  Glattbrugg
TRANSP:OPAQUE
SEQUENCE:0
UID:15376-veranstaltung@kirchenregion-hardwald.ch
DTSTAMP:20260313T143313Z
DESCRIPTION:Pfarrerin Christina Reuter\nMusik: Shoko Schwager\n\nAbendmahl
 \n\nKollekte: https://www.psz-stiftung.ch/\n\nLive-Übertragung der
  Gottesdienste zu jeder Tages- oder Nachtzeit.\nLive-Streaming\n\nKontakt:
  Pfrn. Christina Reuter\n\nWeitere Infos:
  https://www.kirchenregion-hardwald.ch/veranstaltung/15376
SUMMARY:Gottesdienst an Pfingsten
PRIORITY:5
X-MICROSOFT-CDO-IMPORTANCE:1
CLASS:PUBLIC
END:VEVENT
END:VCALENDAR
