BEGIN:VCALENDAR
PRODID:-//kirchenweb.ch gmbh//veranstaltungsausgabe v2.0//DE
VERSION:2.0
METHOD:PUBLISH
BEGIN:VEVENT
DTSTART:20260310T183000Z
DTEND:20260310T210000Z
LOCATION:Kirchgemeindehaus Opfikon\, Oberhauserstrasse 71\, 8152
  Glattbrugg
TRANSP:OPAQUE
SEQUENCE:0
UID:15432-veranstaltung@kirchenregion-hardwald.ch
DTSTAMP:20260225T070125Z
DESCRIPTION:Vortragsabend mit Tabea Roth\, Mission am Nil\nVielleicht
  haben auch Sie in den vergangenen Jahren von unserer Kirchgemeinde einmal
  eine besondere\, handgemachte Geburtstagskarte erhalten? Mit grosser
  Wahrscheinlichkeit wurde diese im Misrach Center\, einem Zentrum für
  Menschen mit Beeinträchtigungen in Addis Abeba\, Äthiopien hergestellt.
  \n\nDas Misrach Center\, ist eines von verschiedenen Projekten\, welches
  vom christlichen Hilfswerk Mission am Nil begleitet wird. Menschen mit
  körperlichen Beeinträchtigungen haben dank des Zentrums die
  Möglichkeit einen handwerklichen Beruf zu erlernen für sich selber zu
  sorgen. Für viele von ihnen ist das Zentrum ein grosser Hoffnungsstern
  und eine wichtige Stütze. \n\nIn ihrem Vortrag erzählt uns Tabea Roth
  von ihrem Einsatz in Äthiopien und gibt uns einen spannenden Einblick in
  die wertvolle Arbeit der Mission am Nil. \n\nWir freuen uns auf Ihr
  Kommen! \n\n\nKontakt: Pfrn. Corina Neher\n\nWeitere Infos:
  https://www.kirchenregion-hardwald.ch/veranstaltung/15432
SUMMARY:Vortrag Mission am Nil
PRIORITY:5
X-MICROSOFT-CDO-IMPORTANCE:1
CLASS:PUBLIC
END:VEVENT
END:VCALENDAR
