BEGIN:VCALENDAR
PRODID:-//kirchenweb.ch gmbh//veranstaltungsausgabe v2.0//DE
VERSION:2.0
METHOD:PUBLISH
BEGIN:VEVENT
DTSTART:20260519T180000Z
DTEND:20260519T190000Z
LOCATION:Kirchgemeindehaus Opfikon\, Oberhauserstrasse 71\, 8152
  Glattbrugg
TRANSP:OPAQUE
SEQUENCE:0
UID:15518-veranstaltung@kirchenregion-hardwald.ch
DTSTAMP:20260106T130643Z
DESCRIPTION:Bibellesen in Kleingruppen\nThema: Neues Testament\n\nWir
  lesen gemeinsam die Bibel mit Schwerpunkt Neues Testament und diskutieren
  darüber. Sie sind eingeladen\, sich mit uns auf diese Reise in der Bibel
  zu begeben!\n\nAlle sind herzlich willkommen.\n\nNächste Termine 2026:
  2./16./30. Juni \nJeweils von 20– 21Uhr\n\nAuskunft erteilen:\nMichael
  Hotz\, http://hotz_michael@hotmail.com\nPfrn. Christina Reuter\,
  http://christina.reuter@ref-opfikon.ch\n\nKontakt:
  kathleen.brugger@ref-wallisellen.ch\n\nWeitere Infos:
  https://www.kirchenregion-hardwald.ch/veranstaltung/15518
SUMMARY:Bibellesen
PRIORITY:5
X-MICROSOFT-CDO-IMPORTANCE:1
CLASS:PUBLIC
END:VEVENT
END:VCALENDAR
