BEGIN:VCALENDAR
PRODID:-//kirchenweb.ch gmbh//veranstaltungsausgabe v2.0//DE
VERSION:2.0
METHOD:PUBLISH
BEGIN:VEVENT
DTSTART:20260905T070000Z
DTEND:20260905T100000Z
LOCATION:Kirchgemeindehaus Opfikon\, Oberhauserstrasse 71\, 8152
  Glattbrugg
TRANSP:OPAQUE
SEQUENCE:0
UID:16321-veranstaltung@kirchenregion-hardwald.ch
DTSTAMP:20260312T181249Z
DESCRIPTION:Kontakt: katharina.peter@ref-opfikon.ch\n\nWeitere Infos:
  https://www.kirchenregion-hardwald.ch/veranstaltung/16321
SUMMARY:Club 4/5 Unti Opfikon
PRIORITY:5
X-MICROSOFT-CDO-IMPORTANCE:1
CLASS:PUBLIC
END:VEVENT
END:VCALENDAR
