BEGIN:VCALENDAR
PRODID:-//kirchenweb.ch gmbh//veranstaltungsausgabe v2.0//DE
VERSION:2.0
METHOD:PUBLISH
BEGIN:VEVENT
DTSTART:20260423T170000Z
DTEND:20260423T180000Z
LOCATION:Kirchgemeindehaus Opfikon\, Oberhauserstrasse 71\, 8152
  Glattbrugg
TRANSP:OPAQUE
SEQUENCE:0
UID:16348-veranstaltung@kirchenregion-hardwald.ch
DTSTAMP:20260401T082146Z
DESCRIPTION:Bilden Sie sich Ihre Meinung \nDie Kirchenpflegen von
  Wallisellen\, Opfikon und Kloten beantragen die Fusion der drei
  Kirchgemeinden zur «Reformierten Kirche An der Glatt». Über den
  Vertrag stimmen Sie am 14. Juni 2026 ab.\nFür alle\, die sich noch keine
  Meinung bilden konnten oder noch Fragen zur neuen Kirchgemeinde haben\,
  bieten wir drei weitere Informationsveranstaltungen an.\n\n23. April\, 19
  Uhr\, Reformierte Kirche Opfikon\n18. Mai\, 19 Uhr\, Reformierte Kirche
  Wallisellen\n04. Juni\, 19 Uhr\, Reformierte Kirche Kloten\n\nDie
  gedruckte Botschaft zur Fusion wird für Interessierte aufliegen.\nSeien
  Sie dabei und bilden Sie sich Ihre Meinung – wir freuen uns auf Sie!\n
 \n\nKontakt: Brigitta Steinemann\, Präsidentin\n\nWeitere Infos:
  https://www.kirchenregion-hardwald.ch/veranstaltung/16348
SUMMARY:Informationsveranstaltung zur Fusion
PRIORITY:5
X-MICROSOFT-CDO-IMPORTANCE:1
CLASS:PUBLIC
END:VEVENT
END:VCALENDAR
