BEGIN:VCALENDAR
PRODID:-//kirchenweb.ch gmbh//veranstaltungsausgabe v2.0//DE
VERSION:2.0
METHOD:PUBLISH
BEGIN:VEVENT
DTSTART:20260909T113000Z
DTEND:20260909T140000Z
LOCATION:Kirchgemeindehaus Opfikon\, Oberhauserstrasse 71\, 8152
  Glattbrugg
TRANSP:OPAQUE
SEQUENCE:0
UID:16365-veranstaltung@kirchenregion-hardwald.ch
DTSTAMP:20260322T152350Z
DESCRIPTION:Die Kolibri-Kirche ist ein Unterrichtsangebot für reformierte
  Kinder im Alter zwischen 6 (2. KiGa- Jahr) bis 8 (2. Klasse) \nGemeinsam
  erleben wir\, was es heisst\, bei Gott willkommen und angenommen zu sein.
  Wir spielen beim Krippenspiel die Weihnachtsgeschichte nach und erleben
  die Wanderung der Väter (Abraham\, Isaak\, Jakob\, Moses) im Orient.
  Gemeinsam erforschen und erleben wir auch die Natur.\nEinmal im Jahr
  gehört auch ein Ausflug dazu. \n\nKontakt: Katharina Peter\,
  Katechetik\, Familien +Jugendarbeit\nEsther Morf\, Katechetik\n\nWeitere
  Infos: https://www.kirchenregion-hardwald.ch/veranstaltung/16365
SUMMARY:Kolibri-Kirche
PRIORITY:5
X-MICROSOFT-CDO-IMPORTANCE:1
CLASS:PUBLIC
END:VEVENT
END:VCALENDAR
