BEGIN:VCALENDAR
PRODID:-//kirchenweb.ch gmbh//veranstaltungsausgabe v2.0//DE
VERSION:2.0
METHOD:PUBLISH
BEGIN:VEVENT
DTSTART:20260925T153000Z
DTEND:20260925T193000Z
LOCATION:Kirchgemeindehaus Opfikon\, Oberhauserstrasse 71\, 8152
  Glattbrugg
TRANSP:OPAQUE
SEQUENCE:0
UID:16366-veranstaltung@kirchenregion-hardwald.ch
DTSTAMP:20260322T152654Z
DESCRIPTION:Gemeinsam mit den katholischen reformierten und
  freikirchlichen Jugendlichen aus Opfikon\, Kloten\, Dietlikon und
  Wallisellen feiern wir einen Jugendgottesdienst im freien. \n\nKontakt:
  Katharina Peter\, Katechetik\, Familien +Mitarbeit Diakonie\n\nWeitere
  Infos: https://www.kirchenregion-hardwald.ch/veranstaltung/16366
SUMMARY:Forest Point
PRIORITY:5
X-MICROSOFT-CDO-IMPORTANCE:1
CLASS:PUBLIC
END:VEVENT
END:VCALENDAR
