BEGIN:VCALENDAR
PRODID:-//kirchenweb.ch gmbh//veranstaltungsausgabe v2.0//DE
VERSION:2.0
METHOD:PUBLISH
BEGIN:VEVENT
DTSTART:20261030T170000Z
DTEND:20261030T180000Z
LOCATION:Reformierte Kirche Opfikon\, Oberhauserstrasse 71\, 8152
  Glattbrugg
TRANSP:OPAQUE
SEQUENCE:0
UID:16367-veranstaltung@kirchenregion-hardwald.ch
DTSTAMP:20260401T094921Z
DESCRIPTION:Die jährlich 2 x durchgeführten Gottesdienste "Vo junge für
  Jungi" werden von unseren Jugendlichen in den JuKi - Angeboten
  ausgearbeitet und geleitet. \nEingeladen sind von 0 bis 110 Jahren alle\,
  die einen Freitagabendgottesdienst mit jungen Mitgliedern geniessen
  mögen. \nAnschliessend wird im Saal gemeinsam ein einfaches Znacht
  genossen. \n\nKontakt: Katharina Peter\, Katechetik\, Familien +
  Mitarbeit Diakonie\nPfrn. Corina Neher\n\nWeitere Infos:
  https://www.kirchenregion-hardwald.ch/veranstaltung/16367
SUMMARY:Gottesdienst von Jungen für Junge
PRIORITY:5
X-MICROSOFT-CDO-IMPORTANCE:1
CLASS:PUBLIC
END:VEVENT
END:VCALENDAR
