BEGIN:VCALENDAR
PRODID:-//kirchenweb.ch gmbh//veranstaltungsausgabe v2.0//DE
VERSION:2.0
METHOD:PUBLISH
BEGIN:VEVENT
DTSTART:20261031T080000Z
DTEND:20261031T103000Z
LOCATION:Kirchgemeindehaus Opfikon\, Oberhauserstrasse 71\, 8152
  Glattbrugg
TRANSP:OPAQUE
SEQUENCE:0
UID:16369-veranstaltung@kirchenregion-hardwald.ch
DTSTAMP:20260322T153247Z
DESCRIPTION:Gemeinsam über alle Unterrichts-Stufen studieren wir ein
  Krippenspiel ein\, welches dann am 3. Advent  als Gemeindeweihnacht
  aufgeführt wird. \nEingeladen sind auch Kinder und Jugendliche\, welche
  NICHT an unseren Unterrichts-Angeboten teil nehmen. Diese müssen bitte
  bei entsprechendem Interesse bis Mitte Oktober anmeldet werden.\n
 \nKontakt: Katharina Peter\, Katechetik\, Familien + Mitarbeit Diakonie
 \nEsther Morf\, Katechetik\n\nWeitere Infos:
  https://www.kirchenregion-hardwald.ch/veranstaltung/16369
SUMMARY:1.Krippenspiel Probe
PRIORITY:5
X-MICROSOFT-CDO-IMPORTANCE:1
CLASS:PUBLIC
END:VEVENT
END:VCALENDAR
