BEGIN:VCALENDAR
PRODID:-//kirchenweb.ch gmbh//veranstaltungsausgabe v2.0//DE
VERSION:2.0
METHOD:PUBLISH
BEGIN:VEVENT
DTSTART:20260627T080000Z
DTEND:20260627T130000Z
LOCATION:Kirchgemeindehaus Opfikon\, Oberhauserstrasse 71\, 8152
  Glattbrugg
TRANSP:OPAQUE
SEQUENCE:0
UID:16381-veranstaltung@kirchenregion-hardwald.ch
DTSTAMP:20260322T161609Z
DESCRIPTION:Ausflug\n\nKontakt: Katharina Peter\, Katechetik\, Mitarbeit
  Diakonie\n\nWeitere Infos:
  https://www.kirchenregion-hardwald.ch/veranstaltung/16381
SUMMARY:Juki 6-8
PRIORITY:5
X-MICROSOFT-CDO-IMPORTANCE:1
CLASS:PUBLIC
END:VEVENT
END:VCALENDAR
