BEGIN:VCALENDAR
PRODID:-//kirchenweb.ch gmbh//veranstaltungsausgabe v2.0//DE
VERSION:2.0
METHOD:PUBLISH
BEGIN:VEVENT
DTSTART:20270324T160000Z
DTEND:20270324T180000Z
LOCATION:Kirchgemeindehaus Opfikon\, Oberhauserstrasse 71\, 8152
  Glattbrugg
TRANSP:OPAQUE
SEQUENCE:0
UID:16391-veranstaltung@kirchenregion-hardwald.ch
DTSTAMP:20260322T173653Z
DESCRIPTION:Der Film wird spätestens eine Woche vor dem Termin bekannt
  gegeben. \n\nKontakt: Katharina Peter\, Katechetin\, Mitarbeit Diakonie\n
 \nWeitere Infos: https://www.kirchenregion-hardwald.ch/veranstaltung/16391
SUMMARY:Kino & Hot Dog füt Kinder zwischen 6-12 Jahre
PRIORITY:5
X-MICROSOFT-CDO-IMPORTANCE:1
CLASS:PUBLIC
END:VEVENT
END:VCALENDAR
