BEGIN:VCALENDAR
PRODID:-//kirchenweb.ch gmbh//veranstaltungsausgabe v2.0//DE
VERSION:2.0
METHOD:PUBLISH
BEGIN:VEVENT
DTSTART:20260911T160000Z
DTEND:20260911T183000Z
LOCATION:Kirchgemeindehaus Opfikon\, Oberhauserstrasse 71\, 8152
  Glattbrugg
TRANSP:OPAQUE
SEQUENCE:0
UID:16534-veranstaltung@kirchenregion-hardwald.ch
DTSTAMP:20260328T152729Z
DESCRIPTION:In den JuKi- Jahren zwischen der 6. und er 8. Klasse geht es
  zum Beispiel um den Reformator Zwingli\, um die Missstände im
  Mittelalter\, warum die Reformation wichtig war und wovon wir heute noch
  profitieren können. \nWir begegnen dem Propheten Jeremia und erfahren\,
  wie es sein kann\, wenn man den Verlauf von Ereignissen kommen sieht\,
  aber kein Gehör findet bei den Mächtigen des Landes. \nEs geht um
  Paulus\, der die Verbreitung des Christentums durch seine Briefe rund ums
  Mittelmehr massgeblich verbreitet hat. \nWir begegnen Menschen\, die uns
  ein Vorbild sein können\, weil sie sich auf die Liebe zu ihren
  Mitmenschen konzentriert haben und Jesus als Vorbild genommen haben.  
 \nBeispiele dafür: Pfr. Ernst Sieber\, Florence Nightingale\, Albert
  Schweitzer\, Martin Luther King\, Niklaus von Flüeh\, Soer Emmanuelle\,
  Susanna Orelli\, Helen Keller. \n\nKontakt: Katharina Peter\,
  Katechetik\, Mitarbeit Diakonie\n\nWeitere Infos:
  https://www.kirchenregion-hardwald.ch/veranstaltung/16534
SUMMARY:Juki 6-8
PRIORITY:5
X-MICROSOFT-CDO-IMPORTANCE:1
CLASS:PUBLIC
END:VEVENT
END:VCALENDAR
