BEGIN:VCALENDAR
PRODID:-//kirchenweb.ch gmbh//veranstaltungsausgabe v2.0//DE
VERSION:2.0
METHOD:PUBLISH
BEGIN:VEVENT
DTSTART:20260816T080000Z
DTEND:20260816T090000Z
LOCATION:Reformierte Kirche Opfikon\, Oberhauserstrasse 71\, 8152
  Glattbrugg
TRANSP:OPAQUE
SEQUENCE:0
UID:16562-veranstaltung@kirchenregion-hardwald.ch
DTSTAMP:20260401T091211Z
DESCRIPTION:Pfrn. Corina Neher\nMusik: \n\nKollekte: \n\nLive-Übertragung
  der Gottesdienste zu jeder Tages- oder Nachtzeit.\nLive-Streaming\n
 \nKontakt: Pfrn. Corina Neher\n\nWeitere Infos:
  https://www.kirchenregion-hardwald.ch/veranstaltung/16562
SUMMARY:Familiengottesdienst zum Schulstart mit Taufe
PRIORITY:5
X-MICROSOFT-CDO-IMPORTANCE:1
CLASS:PUBLIC
END:VEVENT
END:VCALENDAR
