BEGIN:VCALENDAR
PRODID:-//kirchenweb.ch gmbh//veranstaltungsausgabe v2.0//DE
VERSION:2.0
METHOD:PUBLISH
BEGIN:VEVENT
DTSTART:20261211T180000Z
DTEND:20261211T190000Z
LOCATION:Reformierte Kirche Opfikon\, Oberhauserstrasse 71\, 8152
  Glattbrugg
TRANSP:OPAQUE
SEQUENCE:0
UID:16644-veranstaltung@kirchenregion-hardwald.ch
DTSTAMP:20260410T064855Z
DESCRIPTION:Gemeinsam mit den Kirchgemeinden der katholischen Kirche St.
  Anna und der Evangelisch-methodistischen Kirche Glattbrugg-Kloten treffen
  wir uns in der Reformierten Kirche Opfikon\, zum Singen und Innehalten.\n
 \nPfrn. Corina Neher\nMusikalische Begleitung: gospel bridge und der
  Kinderchor der kath. Kirche\nAnschliessend Punsch und adventliches
  Gebäck\n\nKontakt: Pfrn. Corina Neher\n\nWeitere Infos:
  https://www.kirchenregion-hardwald.ch/veranstaltung/16644
SUMMARY:Offenes Adventssingen
PRIORITY:5
X-MICROSOFT-CDO-IMPORTANCE:1
CLASS:PUBLIC
END:VEVENT
END:VCALENDAR
